BEGIN:VCALENDAR
VERSION:2.0
PRODID:-//Shri Om Darbar Nandachaur - ECPv6.8.3//NONSGML v1.0//EN
CALSCALE:GREGORIAN
METHOD:PUBLISH
X-WR-CALNAME:Shri Om Darbar Nandachaur
X-ORIGINAL-URL:https://shriomdarbarnandachaur.com
X-WR-CALDESC:Events for Shri Om Darbar Nandachaur
REFRESH-INTERVAL;VALUE=DURATION:PT1H
X-Robots-Tag:noindex
X-PUBLISHED-TTL:PT1H
BEGIN:VTIMEZONE
TZID:UTC
BEGIN:STANDARD
TZOFFSETFROM:+0000
TZOFFSETTO:+0000
TZNAME:UTC
DTSTART:20160101T000000
END:STANDARD
END:VTIMEZONE
BEGIN:VEVENT
DTSTART;VALUE=DATE:20161028
DTEND;VALUE=DATE:20161029
DTSTAMP:20260420T202925
CREATED:20170929T074748Z
LAST-MODIFIED:20171023T110021Z
UID:1915-1477612800-1477699199@shriomdarbarnandachaur.com
SUMMARY:Rishi Thakur Das Ji\, Haripur Khalsa
DESCRIPTION:Nandachaur Di Shaan Niraali: Rishi Thakur Das Ji\, Haripur Khalsa \n28 October 2016 (Friday)
URL:https://shriomdarbarnandachaur.com/event/rishi-thakur-das-ji-haripur-khalsa/
LOCATION:Darbar Haripur Khalsa: Jalandhar\, Darbar Haripur Khalsa Tajpur\, Jalandhar\, Punjab\, India
CATEGORIES:Bapu Rishi Thakur Das Ji Maharaj,Darbar Haripur Khalsha,Programs
END:VEVENT
END:VCALENDAR