BEGIN:VCALENDAR
VERSION:2.0
PRODID:-//Shri Om Darbar Nandachaur - ECPv6.8.3//NONSGML v1.0//EN
CALSCALE:GREGORIAN
METHOD:PUBLISH
X-WR-CALNAME:Shri Om Darbar Nandachaur
X-ORIGINAL-URL:https://shriomdarbarnandachaur.com
X-WR-CALDESC:Events for Shri Om Darbar Nandachaur
REFRESH-INTERVAL;VALUE=DURATION:PT1H
X-Robots-Tag:noindex
X-PUBLISHED-TTL:PT1H
BEGIN:VTIMEZONE
TZID:UTC
BEGIN:STANDARD
TZOFFSETFROM:+0000
TZOFFSETTO:+0000
TZNAME:UTC
DTSTART:20170101T000000
END:STANDARD
END:VTIMEZONE
BEGIN:VEVENT
DTSTART;VALUE=DATE:20170921
DTEND;VALUE=DATE:20170922
DTSTAMP:20260421T021621
CREATED:20170923T054908Z
LAST-MODIFIED:20171023T105432Z
UID:1026-1505952000-1506038399@shriomdarbarnandachaur.com
SUMMARY:Sampat Akhand Paath Aarambh
DESCRIPTION:Sampat Akhand Paath Aarambh on 21 Septermber 2017\, Thursday\, at Dhakka Sahib\, Delhi
URL:https://shriomdarbarnandachaur.com/event/sampat-akhand-paath-aarambh/
LOCATION:Dhakka Sahib\, Om Mandir\, Om Mandir Marg\, Mukherjee Nagar\, Delhi\, Delhi\, 110009\, India
CATEGORIES:Darbar Dhakka,Programs
END:VEVENT
END:VCALENDAR