BEGIN:VCALENDAR
VERSION:2.0
PRODID:-//Shri Om Darbar Nandachaur - ECPv6.8.3//NONSGML v1.0//EN
CALSCALE:GREGORIAN
METHOD:PUBLISH
X-WR-CALNAME:Shri Om Darbar Nandachaur
X-ORIGINAL-URL:https://shriomdarbarnandachaur.com
X-WR-CALDESC:Events for Shri Om Darbar Nandachaur
REFRESH-INTERVAL;VALUE=DURATION:PT1H
X-Robots-Tag:noindex
X-PUBLISHED-TTL:PT1H
BEGIN:VTIMEZONE
TZID:UTC
BEGIN:STANDARD
TZOFFSETFROM:+0000
TZOFFSETTO:+0000
TZNAME:UTC
DTSTART:20170101T000000
END:STANDARD
END:VTIMEZONE
BEGIN:VEVENT
DTSTART;VALUE=DATE:20170925
DTEND;VALUE=DATE:20170928
DTSTAMP:20260421T032301
CREATED:20170923T054212Z
LAST-MODIFIED:20171023T105412Z
UID:1023-1506297600-1506556799@shriomdarbarnandachaur.com
SUMMARY:72nd Mahabali Bapu Harnam Ji Maharaj Yagya
DESCRIPTION:Special Events : Launching of New Version of Website\n \nआज मीडिया और एक डिजिटल भारत का नया\nयुग प्रारम्भ हो चुका है और श्री ओम दरबार\nइस युग में लगभग सभी प्रकार के मीडिया से\nअपने आप का जोड़ने का प्रयास कर रहा है।\nबापू हरभगवान जी\, गद्दीनशीन श्री ओम दरबार\nनन्दाचैर कि असीम कृपा से यह कार्य चल रहा\nहै।\nआज दरबार की वैबसाईट को बने हुए 12 साल\nसे भी अधिक हो गए हैं।\nबापू हरभगवान जी के आर्शीवाद को प्राप्त\nकरते हुग व मंच पर विराजमान सभी महापुरुषों\nसे आर्शीवाद लेते हुए व धर्माथ चैरिटेबल\nटरसट के समस्त पदाधिकारीयों से अनुमती लेते\nहुए एवं बापू जी की प्रेम मयी संगत संगत के\nसाथ मिलकर आज दिनाक 27 सितमबर 2017\nको महाबली बापू हरनाम जी महाराज के 72वें\nमहायज्ञ पर बापू जी से प्रार्थना की श्री ओम\nदरबार की नवीन वैबसाईट का लैपटाप में बटन\nदबाकर शुभारम्भ करें और वीडियो सक्रीन पर\nसंगत इस नयी वैबसाईट की विशेषताएं जान\nसके। \n\nProgramme Albums\n  \nhttps://www.facebook.com/pg/shriomdarbarnandachaur/photos/?tab=album&album_id=1616368948438346 \nhttps://www.facebook.com/media/set/?set=a.1616388201769754.1073741844.207003239374931&type=1&l=bcb8ba0a95 \n  \n\nProgram Invitation Cards\n\n\n\n 
URL:https://shriomdarbarnandachaur.com/event/72nd-mahabali-bapu-harnam-ji-maharaj-yagya/
LOCATION:Dhakka Sahib\, Om Mandir\, Om Mandir Marg\, Mukherjee Nagar\, Delhi\, Delhi\, 110009\, India
CATEGORIES:Bapu Harnam Ji Maharaj,Darbar Dhakka,Programs
ATTACH;FMTTYPE=image/jpeg:https://shriomdarbarnandachaur.com/wp-content/uploads/2017/09/21731166_1593025857439322_1473513847743016802_n.jpg
END:VEVENT
END:VCALENDAR