BEGIN:VCALENDAR
VERSION:2.0
PRODID:-//Shri Om Darbar Nandachaur - ECPv6.8.3//NONSGML v1.0//EN
CALSCALE:GREGORIAN
METHOD:PUBLISH
X-WR-CALNAME:Shri Om Darbar Nandachaur
X-ORIGINAL-URL:https://shriomdarbarnandachaur.com
X-WR-CALDESC:Events for Shri Om Darbar Nandachaur
REFRESH-INTERVAL;VALUE=DURATION:PT1H
X-Robots-Tag:noindex
X-PUBLISHED-TTL:PT1H
BEGIN:VTIMEZONE
TZID:UTC
BEGIN:STANDARD
TZOFFSETFROM:+0000
TZOFFSETTO:+0000
TZNAME:UTC
DTSTART:20170101T000000
END:STANDARD
END:VTIMEZONE
BEGIN:VEVENT
DTSTART;TZID=UTC:20171118T200000
DTEND;TZID=UTC:20171118T235900
DTSTAMP:20260421T044445
CREATED:20171024T105740Z
LAST-MODIFIED:20171025T172350Z
UID:3244-1511035200-1511049540@shriomdarbarnandachaur.com
SUMMARY:Prakash Utsav Bapu Harnam Ji Maharaaj
DESCRIPTION:Prakash Utsav Bapu Harnam Ji Maharaaj\nPrakash Utsav Bapu Harnam Ji Maharaaj at Darbar Nandachaur 18 November 2017\, 8:00 to 12:30 am
URL:https://shriomdarbarnandachaur.com/event/prakash-utsav-bapu-harnam-ji-maharaaj/
LOCATION:jilla Hoshiyarpur
CATEGORIES:Bapu Harnam Ji Maharaj,Darbar Nandachaur Dham,Prakash Utsav,Programs
ATTACH;FMTTYPE=image/jpeg:https://shriomdarbarnandachaur.com/wp-content/uploads/2017/10/omji_harnamji.jpg
END:VEVENT
END:VCALENDAR