BEGIN:VCALENDAR
VERSION:2.0
PRODID:-//Shri Om Darbar Nandachaur - ECPv6.8.3//NONSGML v1.0//EN
CALSCALE:GREGORIAN
METHOD:PUBLISH
X-WR-CALNAME:Shri Om Darbar Nandachaur
X-ORIGINAL-URL:https://shriomdarbarnandachaur.com
X-WR-CALDESC:Events for Shri Om Darbar Nandachaur
REFRESH-INTERVAL;VALUE=DURATION:PT1H
X-Robots-Tag:noindex
X-PUBLISHED-TTL:PT1H
BEGIN:VTIMEZONE
TZID:UTC
BEGIN:STANDARD
TZOFFSETFROM:+0000
TZOFFSETTO:+0000
TZNAME:UTC
DTSTART:20100101T000000
END:STANDARD
END:VTIMEZONE
BEGIN:VEVENT
DTSTART;VALUE=DATE:20141202
DTEND;VALUE=DATE:20141205
DTSTAMP:20260420T221034
CREATED:20170929T082340Z
LAST-MODIFIED:20171023T110222Z
UID:1927-1417478400-1417737599@shriomdarbarnandachaur.com
SUMMARY:40th Mahayagya of Bapu Shardha Ram Ji Maharaaj (2\,3\,4 December 2014)
DESCRIPTION:40th Mahayagya of Bapu Shardha Ram Ji Maharaaj (2\,3\,4 December 2014)
URL:https://shriomdarbarnandachaur.com/event/40th-mahayagya-of-bapu-shardha-ram-ji-maharaaj-234-december-2014/
LOCATION:jilla Hoshiyarpur
CATEGORIES:Bapu Shardha Ram Ji Maharaj,Mahayagya,Programs
END:VEVENT
BEGIN:VEVENT
DTSTART;VALUE=DATE:20140605
DTEND;VALUE=DATE:20140608
DTSTAMP:20260420T221034
CREATED:20171005T124557Z
LAST-MODIFIED:20171023T110429Z
UID:2296-1401926400-1402185599@shriomdarbarnandachaur.com
SUMMARY:102 Mahayagya Bapu Om Ji Maharaaj
DESCRIPTION:102 Mahayagya Bapu Om Ji Maharaaj: 5 to 7 June 2014 at Shri Om Darbar Nandachaur\nProgram Album\nhttps://www.facebook.com/media/set/?set=a.694907110584539.1073741838.207003239374931&type=1&l=036d1aeb90 \n 
URL:https://shriomdarbarnandachaur.com/event/102-mahayagya-bapu-om-ji-maharaaj/
LOCATION:Nandachaur Dham\, Hoshiyarpur Punjab\, Nandachaur Dham\, Hoshiyarpur\, jilla Hoshiyarpur\, India
CATEGORIES:Darbar Nandachaur Dham,Mahayagya,Om Bapu Narayan Dutt Ji Maharaaj,Programs
END:VEVENT
BEGIN:VEVENT
DTSTART;VALUE=DATE:20131231
DTEND;VALUE=DATE:20140101
DTSTAMP:20260420T221035
CREATED:20170929T084646Z
LAST-MODIFIED:20171023T110508Z
UID:1943-1388448000-1388534399@shriomdarbarnandachaur.com
SUMMARY:2013 New Year Celebrations in Dhakka\, Mandir Shri Guru Harnam Ji Maharaj
DESCRIPTION:2013 New Year Celebrations in Dhakka\, Mandir Shri Guru Harnam Ji Maharaj \n \n 
URL:https://shriomdarbarnandachaur.com/event/2013-new-year-celebrations-in-dhakka-mandir-shri-guru-harnam-ji-maharaj/
LOCATION:Dhakka Sahib\, Om Mandir\, Om Mandir Marg\, Mukherjee Nagar\, Delhi\, Delhi\, 110009\, India
CATEGORIES:Bapu Harnam Ji Maharaj,Darbar Dhakka,Programs
END:VEVENT
BEGIN:VEVENT
DTSTART;VALUE=DATE:20130605
DTEND;VALUE=DATE:20130608
DTSTAMP:20260420T221035
CREATED:20170926T110309Z
LAST-MODIFIED:20171023T110539Z
UID:1662-1370390400-1370649599@shriomdarbarnandachaur.com
SUMMARY:बापू श्री ओम नारायण दत्त जी महाराज का 101 वा महायज्ञ
DESCRIPTION:ब्रह्मदेवता बापू श्री ओम नारायण दत्त जी महाराज का शताब्दी महायज्ञ 5 से 7 जून 2013
URL:https://shriomdarbarnandachaur.com/event/%e0%a4%ac%e0%a4%be%e0%a4%aa%e0%a5%82-%e0%a4%b6%e0%a5%8d%e0%a4%b0%e0%a5%80-%e0%a4%93%e0%a4%ae-%e0%a4%a8%e0%a4%be%e0%a4%b0%e0%a4%be%e0%a4%af%e0%a4%a3-%e0%a4%a6%e0%a4%a4%e0%a5%8d%e0%a4%a4-%e0%a4%9c/
LOCATION:Nandachaur Dham\, Hoshiyarpur Punjab\, Nandachaur Dham\, Hoshiyarpur\, jilla Hoshiyarpur\, India
CATEGORIES:Darbar Nandachaur Dham,Mahayagya,Om Bapu Narayan Dutt Ji Maharaaj,Programs
ATTACH;FMTTYPE=image/jpeg:https://shriomdarbarnandachaur.com/wp-content/uploads/2017/09/1.jpg
END:VEVENT
BEGIN:VEVENT
DTSTART;VALUE=DATE:20130428
DTEND;VALUE=DATE:20130506
DTSTAMP:20260420T221035
CREATED:20170926T115541Z
LAST-MODIFIED:20171128T070300Z
UID:1668-1367107200-1367798399@shriomdarbarnandachaur.com
SUMMARY:बापू श्रद्धा राम जी महाराज का 125 वां प्रकाश उत्सव
DESCRIPTION:बापू श्रद्धा राम जी महाराज का 125 वां प्रकाश उत्सव\nProgram Album\nhttps://www.facebook.com/media/set/?set=a.510403799034872.1073741831.207003239374931&type=1&l=78637e3a9d \n\nProgram Videos\nKawali on 4th May program \n \n \n\n \n  \n\nBapu Ji Bhajan\n \n \n \n\nInvitaion Card
URL:https://shriomdarbarnandachaur.com/event/%e0%a4%ac%e0%a4%be%e0%a4%aa%e0%a5%82-%e0%a4%b6%e0%a5%8d%e0%a4%b0%e0%a4%a6%e0%a5%8d%e0%a4%a7%e0%a4%be-%e0%a4%b0%e0%a4%be%e0%a4%ae-%e0%a4%9c%e0%a5%80-%e0%a4%ae%e0%a4%b9%e0%a4%be%e0%a4%b0%e0%a4%be/
LOCATION:jilla Hoshiyarpur
CATEGORIES:Bapu Shardha Ram Ji Maharaj,Darbar Nandachaur Dham,Prakash Utsav,Programs
ATTACH;FMTTYPE=image/jpeg:https://shriomdarbarnandachaur.com/wp-content/uploads/2017/09/card1.jpg
END:VEVENT
BEGIN:VEVENT
DTSTART;VALUE=DATE:20120604
DTEND;VALUE=DATE:20120605
DTSTAMP:20260420T221035
CREATED:20170928T102554Z
LAST-MODIFIED:20171023T110653Z
UID:1822-1338768000-1338854399@shriomdarbarnandachaur.com
SUMMARY:Harey Rama Harey Krishna
DESCRIPTION:4 June : Harey Rama Harey Krishna : Shatabdi Mahayagya
URL:https://shriomdarbarnandachaur.com/event/harey-rama-harey-krishna/
LOCATION:Nandachaur Dham\, Hoshiyarpur Punjab\, Nandachaur Dham\, Hoshiyarpur\, jilla Hoshiyarpur\, India
CATEGORIES:Darbar Nandachaur Dham,Mahayagya,Programs
END:VEVENT
BEGIN:VEVENT
DTSTART;VALUE=DATE:20120602
DTEND;VALUE=DATE:20120603
DTSTAMP:20260420T221035
CREATED:20170928T124143Z
LAST-MODIFIED:20171023T110710Z
UID:1851-1338595200-1338681599@shriomdarbarnandachaur.com
SUMMARY:Kalash Yatra (2 June 2012)
DESCRIPTION:Kalash Yatra (2 June 2012)
URL:https://shriomdarbarnandachaur.com/event/kalash-yatra-2-june-2012/
LOCATION:Nandachaur Dham\, Hoshiyarpur Punjab\, Nandachaur Dham\, Hoshiyarpur\, jilla Hoshiyarpur\, India
CATEGORIES:Darbar Nandachaur Dham,Programs
END:VEVENT
BEGIN:VEVENT
DTSTART;VALUE=DATE:20120601
DTEND;VALUE=DATE:20120608
DTSTAMP:20260420T221035
CREATED:20170926T104310Z
LAST-MODIFIED:20171023T110745Z
UID:1652-1338508800-1339113599@shriomdarbarnandachaur.com
SUMMARY:Shatabdi Mahayagya: Bapu Shri Om Narayan Dutt Ji Maharaj
DESCRIPTION:Shatabdi Mahayagya: Bapu Shri Om Narayan Dutt Ji Maharaj\nब्रह्मदेवता बापू श्री ओम नारायण दत्त जी महाराज का शताब्दी महायज्ञ 1 से 7 जून 2012 \n\n\nVideos\n4 June : Harey Rama Harey Krishna\n \n \n 
URL:https://shriomdarbarnandachaur.com/event/shatabdi-mahayagya-bapu-shri-om-narayan-dutt-ji-maharaj/
LOCATION:Nandachaur Dham\, Hoshiyarpur Punjab\, Nandachaur Dham\, Hoshiyarpur\, jilla Hoshiyarpur\, India
CATEGORIES:Darbar Nandachaur Dham,Mahayagya,Om Bapu Narayan Dutt Ji Maharaaj,Programs
ATTACH;FMTTYPE=image/jpeg:https://shriomdarbarnandachaur.com/wp-content/uploads/2017/09/cdcover.jpg
END:VEVENT
BEGIN:VEVENT
DTSTART;VALUE=DATE:20110927
DTEND;VALUE=DATE:20110928
DTSTAMP:20260420T221035
CREATED:20170928T124949Z
LAST-MODIFIED:20171023T110820Z
UID:1855-1317081600-1317167999@shriomdarbarnandachaur.com
SUMMARY:Release of Aatmakatha Bapu Harnam Ji Maharaj
DESCRIPTION:Release of Aatmakatha Bapu Harnam Ji Maharaj (27 September 2011)
URL:https://shriomdarbarnandachaur.com/event/release-of-aatmakatha-bapu-harnam-ji-maharaj/
LOCATION:jilla Hoshiyarpur
CATEGORIES:Bapu Harnam Ji Maharaj,Programs
END:VEVENT
BEGIN:VEVENT
DTSTART;VALUE=DATE:20110925
DTEND;VALUE=DATE:20110928
DTSTAMP:20260420T221035
CREATED:20170928T124830Z
LAST-MODIFIED:20171023T110859Z
UID:1853-1316908800-1317167999@shriomdarbarnandachaur.com
SUMMARY:66th Mahayagya of Bapu Harnam Ji Maharaj
DESCRIPTION:66th Mahayagya of Bapu Harnam Ji Maharaj (25 to 27 sep 2011) \nबापू हरनाम जी महाराज का 66 वां महायज्ञ (25 to 27 sep 2011) \nVideos\nआत्मकथा बापू हरनाम जी महाराज Jeevan Parichay \n \n66van Mahabali Bapu Harnam Ji Maharaj Mahayagya PART-1 \n \n66van Mahabali Bapu Harnam Ji Maharaj Mahayagya PART-2
URL:https://shriomdarbarnandachaur.com/event/66th-mahayagya-of-bapu-harnam-ji-maharaj/
LOCATION:Dhakka Sahib\, Om Mandir\, Om Mandir Marg\, Mukherjee Nagar\, Delhi\, Delhi\, 110009\, India
CATEGORIES:Bapu Harnam Ji Maharaj,Darbar Dhakka,Mahayagya,Programs
END:VEVENT
BEGIN:VEVENT
DTSTART;VALUE=DATE:20110223
DTEND;VALUE=DATE:20110224
DTSTAMP:20260420T221035
CREATED:20170929T082952Z
LAST-MODIFIED:20171023T110909Z
UID:1932-1298419200-1298505599@shriomdarbarnandachaur.com
SUMMARY:Openning of Medical Clinic at Om Darbar Dhakka (23 Feb 2011)
DESCRIPTION:Openning of Medical Clinic at Om Darbar Dhakka (23 Feb 2011)
URL:https://shriomdarbarnandachaur.com/event/openning-of-medical-clinic-at-om-darbar-dhakka-23-feb-2011/
LOCATION:Dhakka Sahib\, Om Mandir\, Om Mandir Marg\, Mukherjee Nagar\, Delhi\, Delhi\, 110009\, India
CATEGORIES:Darbar Dhakka,Programs
END:VEVENT
BEGIN:VEVENT
DTSTART;VALUE=DATE:20101114
DTEND;VALUE=DATE:20101115
DTSTAMP:20260420T221035
CREATED:20170929T081430Z
LAST-MODIFIED:20171023T110923Z
UID:1925-1289692800-1289779199@shriomdarbarnandachaur.com
SUMMARY:Darbar Dhakka Sunday Program on 14 November 2010
DESCRIPTION:Darbar Dhakka Sunday Program on 14 November 2010
URL:https://shriomdarbarnandachaur.com/event/darbar-dhakka-sunday-program-on-14-november-2010/
LOCATION:Dhakka Sahib\, Om Mandir\, Om Mandir Marg\, Mukherjee Nagar\, Delhi\, Delhi\, 110009\, India
CATEGORIES:Darbar Dhakka,Programs
END:VEVENT
END:VCALENDAR