BEGIN:VCALENDAR
VERSION:2.0
PRODID:-//Shri Om Darbar Nandachaur - ECPv6.8.3//NONSGML v1.0//EN
CALSCALE:GREGORIAN
METHOD:PUBLISH
X-ORIGINAL-URL:https://shriomdarbarnandachaur.com
X-WR-CALDESC:Events for Shri Om Darbar Nandachaur
REFRESH-INTERVAL;VALUE=DURATION:PT1H
X-Robots-Tag:noindex
X-PUBLISHED-TTL:PT1H
BEGIN:VTIMEZONE
TZID:UTC
BEGIN:STANDARD
TZOFFSETFROM:+0000
TZOFFSETTO:+0000
TZNAME:UTC
DTSTART:20170101T000000
END:STANDARD
END:VTIMEZONE
BEGIN:VEVENT
DTSTART;TZID=UTC:20171115T180000
DTEND;TZID=UTC:20171115T210000
DTSTAMP:20260421T005821
CREATED:20171023T104305Z
LAST-MODIFIED:20171116T061656Z
UID:3143-1510768800-1510779600@shriomdarbarnandachaur.com
SUMMARY:Bapu Amar Singh Ji Maharaj Prakash Utsav
DESCRIPTION:Bapu Amar Singh Ji Maharaj Prakash Utsav 15 November\nबापू अमर सिंह जी महाराज प्रकाश उत्सव\, 15 नवंबर (बुद्धवार)\, सांझ 6 से 9\, दरबार बुढ़पुर \n\nPrograme Bhajan
URL:https://shriomdarbarnandachaur.com/event/bapu-amar-singh-ji-maharaj-prakash-utsav/
LOCATION:Shri Om Darbar\, Budhpur (Delhi)\, Sant Shardha Ram Aashram Road\, Village Budhpur\, G.T.Road\, Village Budhpur\, Delhi\, 110036\, India
CATEGORIES:Bapu Shri Amar Ji Maharaj,Darbar Budhpur Delhi,Prakash Utsav,Programs
ATTACH;FMTTYPE=image/jpeg:https://shriomdarbarnandachaur.com/wp-content/uploads/2017/10/Bapu-Shri-Amar-Singh-JI-Maharaj.jpg
END:VEVENT
BEGIN:VEVENT
DTSTART;VALUE=DATE:20171117
DTEND;VALUE=DATE:20171118
DTSTAMP:20260421T005821
CREATED:20171117T112718Z
LAST-MODIFIED:20171125T082321Z
UID:3442-1510876800-1510963199@shriomdarbarnandachaur.com
SUMMARY:Prakash utsav rishi thakur das ji Maharaj
DESCRIPTION:Prakash utsav rishi thakur das ji Maharaj                                                                                                                                                                                                              Prakash utsav rishi thakur das ji Maharaj                                                                                                                                                                                                              Prakash utsav rishi thakur das ji Maharaj                                                                                                                                                                                                              Prakash utsav rishi thakur das ji Maharaj                                                                                                                                                                                                              Prakash utsav rishi thakur das ji Maharaj                                                                                                                                                                                                              Prakash utsav rishi thakur das ji Maharaj
URL:https://shriomdarbarnandachaur.com/event/prakash-utsav-rishi-thakur-das-ji-maharaj-2/
LOCATION:Punjab
CATEGORIES:Bapu Rishi Thakur Das Ji Maharaj,Prakash Utsav,Programs
ATTACH;FMTTYPE=image/jpeg:https://shriomdarbarnandachaur.com/wp-content/uploads/2017/11/WhatsApp-Image-2017-11-17-at-2.09.16-PM-1.jpeg
END:VEVENT
BEGIN:VEVENT
DTSTART;TZID=UTC:20171117T093000
DTEND;TZID=UTC:20171117T233000
DTSTAMP:20260421T005821
CREATED:20171116T060213Z
LAST-MODIFIED:20171116T060446Z
UID:3408-1510911000-1510961400@shriomdarbarnandachaur.com
SUMMARY:Prakash Utsav of Bapu Harnam Ji Maharaj
DESCRIPTION:Prakash utsav of Bapu Harnam Ji Maharaj will be celebrated on 17th Nov (Fri) from 09:30pm to 12 am at Om Mandir Dhakka\nJai Bapu di ji 🙏🙏\nPrakash utsav of Bapu Harnam Ji Maharaj will be celebrated on 17th Nov (Fri) from 09:30pm to 12 am at Om Mandir Dhakka. \nAll are invited.\nPath Sukhmani Sahib : 09:30pm to 11:00pm\nBhajan: 11pm to 11:30pm .\nAarti: 11:30pm
URL:https://shriomdarbarnandachaur.com/event/prakash-utsav-of-bapu-harnam-ji-maharaj/
LOCATION:Dhakka Sahib\, Om Mandir\, Om Mandir Marg\, Mukherjee Nagar\, Delhi\, Delhi\, 110009\, India
CATEGORIES:Bapu Harnam Ji Maharaj,Darbar Dhakka,Prakash Utsav,Programs
ATTACH;FMTTYPE=image/jpeg:https://shriomdarbarnandachaur.com/wp-content/uploads/2017/11/Prakash-Utsav-of-Bapu-Harnam-Ji-Maharaj.jpg
END:VEVENT
BEGIN:VEVENT
DTSTART;TZID=UTC:20171117T100000
DTEND;TZID=UTC:20171117T130000
DTSTAMP:20260421T005821
CREATED:20171116T114004Z
LAST-MODIFIED:20171116T164331Z
UID:3414-1510912800-1510923600@shriomdarbarnandachaur.com
SUMMARY:Mahabali Bapu Shri Harnam Ji Maharaj Prakash Diwas
DESCRIPTION:महाबली बापू श्री हरनाम जी महाराज का प्रकाश दिवस\nबापू जी की लाडली \,प्यारी संगत जी\nजय बापू दी जी🙏🙏 \nदिनांक 17/11/2017 दिन शुक्रवार को परम पूज्यनीय\, प्रातःस्मरणीय महाबली बापू श्री हरनाम जी महाराज का प्रकाश दिवस बड़ी श्रद्धा एवम धूमधाम के साथ श्री ओम मंदिर रुद्रपुर में मनाया जा रहा है इस उपलक्ष्य में प्रातः 10.00 बजे से पवित्र श्री सुंदरकांड जी का पाठ एवम कीर्तन मुरादाबाद की प्रसिद्ध मंडली द्वारा होगा ।आरती के बाद दोपहर 1.00 बजे भोग लगा ब्रह्मभोज लंगर प्रसाद वितरित किया जाएगा।\nआप सभी से अनुरोध है कि उक्त आयोजन में समयानुसार भाग लेकर पूण्य के भागी बने।
URL:https://shriomdarbarnandachaur.com/event/mahabali-bapu-shri-harnam-ji-maharaj-prakash-diwas/
LOCATION:Shri Om Mandir\, Darbar Rudrapur (Uttarakhand)\, 6\, Khera Colony\, Kichha By-Pass Road\, Rudrapur Dist. Udham Singh Nagar\, Uttrakhand\, 263153\, India
CATEGORIES:Bapu Harnam Ji Maharaj,Darbar Rudrapur,Prakash Utsav,Programs
ATTACH;FMTTYPE=image/jpeg:https://shriomdarbarnandachaur.com/wp-content/uploads/2017/10/omji_harnamji.jpg
END:VEVENT
BEGIN:VEVENT
DTSTART;TZID=UTC:20171118T200000
DTEND;TZID=UTC:20171118T235900
DTSTAMP:20260421T005821
CREATED:20171024T105740Z
LAST-MODIFIED:20171025T172350Z
UID:3244-1511035200-1511049540@shriomdarbarnandachaur.com
SUMMARY:Prakash Utsav Bapu Harnam Ji Maharaaj
DESCRIPTION:Prakash Utsav Bapu Harnam Ji Maharaaj\nPrakash Utsav Bapu Harnam Ji Maharaaj at Darbar Nandachaur 18 November 2017\, 8:00 to 12:30 am
URL:https://shriomdarbarnandachaur.com/event/prakash-utsav-bapu-harnam-ji-maharaaj/
LOCATION:Punjab
CATEGORIES:Bapu Harnam Ji Maharaj,Darbar Nandachaur Dham,Prakash Utsav,Programs
ATTACH;FMTTYPE=image/jpeg:https://shriomdarbarnandachaur.com/wp-content/uploads/2017/10/omji_harnamji.jpg
END:VEVENT
BEGIN:VEVENT
DTSTART;VALUE=DATE:20171125
DTEND;VALUE=DATE:20171126
DTSTAMP:20260421T005821
CREATED:20171113T111409Z
LAST-MODIFIED:20171125T082259Z
UID:3372-1511568000-1511654399@shriomdarbarnandachaur.com
SUMMARY:Prakash Utsav Bapu Bhanu Dutt Ji Mahraaj
DESCRIPTION:  \nFrom 10:pm Onwards
URL:https://shriomdarbarnandachaur.com/event/prakash-utsav-bapu-bhanu-dutt-ji-mahraaj/
LOCATION:Dhakka Sahib\, Om Mandir\, Om Mandir Marg\, Mukherjee Nagar\, Delhi\, Delhi\, 110009\, India
CATEGORIES:Bapu Bhanu Dutt Ji Maharaj,Darbar Dhakka,Prakash Utsav,Programs,Upcoming Events
ATTACH;FMTTYPE=image/jpeg:https://shriomdarbarnandachaur.com/wp-content/uploads/2017/10/BapuBhanuDuttJi.jpg
END:VEVENT
BEGIN:VEVENT
DTSTART;TZID=UTC:20171125T100000
DTEND;TZID=UTC:20171125T120000
DTSTAMP:20260421T005821
CREATED:20171125T073520Z
LAST-MODIFIED:20171125T073612Z
UID:3486-1511604000-1511611200@shriomdarbarnandachaur.com
SUMMARY:100th Prakash utsav of Bapu Bhanu Dutt Ji Maharaj
DESCRIPTION:Jai Bapu di ji 🙏🙏 \n100th Prakash utsav of Bapu Bhanu Dutt Ji Maharaj will be celebrated on 25th Nov (Sat) from 10:00pm to 12 am at Om Mandir Dhakka. \nAll are invited.\nBhajan & kirtan: 10:00pm to 11:30pm .\nAarti: 11:30pm
URL:https://shriomdarbarnandachaur.com/event/100th-prakash-utsav-of-bapu-bhanu-dutt-ji-maharaj/
LOCATION:Dhakka Sahib\, Om Mandir\, Om Mandir Marg\, Mukherjee Nagar\, Delhi\, Delhi\, 110009\, India
CATEGORIES:Bapu Bhanu Dutt Ji Maharaj,Prakash Utsav,Programs
ATTACH;FMTTYPE=image/jpeg:https://shriomdarbarnandachaur.com/wp-content/uploads/2017/11/bapu-bhanu-dutt-ji-darshan-1.jpg
END:VEVENT
BEGIN:VEVENT
DTSTART;TZID=UTC:20171125T100000
DTEND;TZID=UTC:20171125T130000
DTSTAMP:20260421T005821
CREATED:20171125T073004Z
LAST-MODIFIED:20171125T110847Z
UID:3482-1511604000-1511614800@shriomdarbarnandachaur.com
SUMMARY:प्रकाश दिवस - बापू श्री भानुदत्त जी महाराज जी
DESCRIPTION:प्रकाश दिवस – बापू श्री भानुदत्त जी महाराज जी\nबापू जी की लाडली \,प्यारी संगत जी\nजय बापू दी जी🙏🙏 \nदिनांक 25/11/17 दिन शनिवार को परम पूज्यनीय \,प्रातःस्मरणीय \,परम तपस्वी 108 बापू श्री भानुदत्त जी महाराज जी का प्रकाश दिवस बड़ी श्रद्धा एवम धूमधाम के साथ श्री ओम मंदिर रुद्रपुर में मनाया जा रहा है इस उपलक्ष्य में कल प्रातः 10.00 बजे से पवित्र श्री सुंदरकांड जी का पाठ एवम कीर्तन होगा ।आरती के बाद दोपहर 1.00 बजे भोग लगा ब्रह्मभोज लंगर वितरित किया जाएगा।\nआप सभी से अनुरोध है कि उक्त आयोजन में सपरिवार भाग लेकर पूण्य के भागी बने।।\n🙏निवेदक🙏\nश्री ओम दरबार सेवा समिति\nरुद्रपुर \n\nPrograme Images\n                                                                                                                                                                                                                               bapu bhanu dutt ji program image                                                                                                                                                                                                              bapu bhanu dutt ji program prakash utsav
URL:https://shriomdarbarnandachaur.com/event/%e0%a4%aa%e0%a5%8d%e0%a4%b0%e0%a4%95%e0%a4%be%e0%a4%b6-%e0%a4%a6%e0%a4%bf%e0%a4%b5%e0%a4%b8-%e0%a4%ac%e0%a4%be%e0%a4%aa%e0%a5%82-%e0%a4%b6%e0%a5%8d%e0%a4%b0%e0%a5%80-%e0%a4%ad%e0%a4%be%e0%a4%a8/
LOCATION:Shri Om Mandir\, Darbar Rudrapur (Uttarakhand)\, 6\, Khera Colony\, Kichha By-Pass Road\, Rudrapur Dist. Udham Singh Nagar\, Uttrakhand\, 263153\, India
CATEGORIES:Bapu Bhanu Dutt Ji Maharaj,Prakash Utsav,Programs
ATTACH;FMTTYPE=image/jpeg:https://shriomdarbarnandachaur.com/wp-content/uploads/2017/11/bapu-bhanu-dutt-ji-darshan-2.jpg
END:VEVENT
BEGIN:VEVENT
DTSTART;VALUE=DATE:20171202
DTEND;VALUE=DATE:20171203
DTSTAMP:20260421T005821
CREATED:20171003T124335Z
LAST-MODIFIED:20171023T104858Z
UID:2080-1512172800-1512259199@shriomdarbarnandachaur.com
SUMMARY:6th पुण्यतिथि बापू अमर सिंह जी महाराज
DESCRIPTION:6th पुण्यतिथि बापू अमर सिंह जी महाराज: दरबार बूढ़पुर on 2 December 2017 (Saturday)
URL:https://shriomdarbarnandachaur.com/event/6th-%e0%a4%aa%e0%a5%81%e0%a4%a3%e0%a5%8d%e0%a4%af%e0%a4%a4%e0%a4%bf%e0%a4%a5%e0%a4%bf-%e0%a4%ac%e0%a4%be%e0%a4%aa%e0%a5%82-%e0%a4%85%e0%a4%ae%e0%a4%b0-%e0%a4%b8%e0%a4%bf%e0%a4%82%e0%a4%b9-%e0%a4%9c/
LOCATION:Shri Om Darbar\, Budhpur (Delhi)\, Sant Shardha Ram Aashram Road\, Village Budhpur\, G.T.Road\, Village Budhpur\, Delhi\, 110036\, India
CATEGORIES:Bapu Shri Amar Ji Maharaj,Darbar Budhpur Delhi,Programs
ATTACH;FMTTYPE=image/jpeg:https://shriomdarbarnandachaur.com/wp-content/uploads/2017/10/Bapu-Shri-Amar-Singh-JI-Maharaj.jpg
END:VEVENT
BEGIN:VEVENT
DTSTART;VALUE=DATE:20171202
DTEND;VALUE=DATE:20171205
DTSTAMP:20260421T005821
CREATED:20171024T105451Z
LAST-MODIFIED:20171127T074818Z
UID:3242-1512172800-1512431999@shriomdarbarnandachaur.com
SUMMARY:Mahayagya Bapu Shardha Ram ji Maharaaj
DESCRIPTION:Mahayagya Bapu Shardha Ram ji Maharaaj\nMahayagya Bapu Shardha Ram ji Maharaaj at Darbar Nandachaur 2\, 3\, 4 December 2017 \n\n\nInvitation Card\n                                                                                                                                                                                                                               43va-mahayagya-2-4-dec-c1                                                                                                                                                                                                              43va-mahayagya-2-4-dec-c2                                                                                                                                                                                                              43va-mahayagya-2-4-dec-c3                                                                                                                                                                                                              43va-mahayagya-2-4-dec-c4
URL:https://shriomdarbarnandachaur.com/event/mahayagya-bapu-shardha-ram-ji-maharaaj/
LOCATION:Nandachaur Dham\, Hoshiyarpur Punjab\, Nandachaur Dham\, Hoshiyarpur\, jilla Hoshiyarpur\, India
CATEGORIES:Bapu Shardha Ram Ji Maharaj,Darbar Nandachaur Dham,Mahayagya,Programs
ATTACH;FMTTYPE=image/jpeg:https://shriomdarbarnandachaur.com/wp-content/uploads/2017/10/32.jpg
END:VEVENT
BEGIN:VEVENT
DTSTART;TZID=UTC:20171217T103000
DTEND;TZID=UTC:20171217T133000
DTSTAMP:20260421T005821
CREATED:20171215T065853Z
LAST-MODIFIED:20171215T065853Z
UID:3633-1513506600-1513517400@shriomdarbarnandachaur.com
SUMMARY:Mahayag of Bapu Sant Shardha Ram Ji Maharaj
DESCRIPTION:Mahayag of Bapu Sant Shardha Ram Ji Maharaj will be celebrated on 17th Dec (Sun) from 10:30 am to 01:30 pm at Om Mandir Dhakka. All R invited. \n\n10:30am to 11:45am Path Sukhmani Sahib ji (Samuhik path).\n11:45am to 1:00pm Bhog path Ramayan ji\, Bhajan and Kirtan.\n1:00pm onwards Aarti\, Ardas\, Jhanda Sahib and Langer.
URL:https://shriomdarbarnandachaur.com/event/mahayag-of-bapu-sant-shardha-ram-ji-maharaj/
LOCATION:Om Mandir Dhakka\, India
CATEGORIES:Bapu Shardha Ram Ji Maharaj,Programs,Upcoming Events
ATTACH;FMTTYPE=image/jpeg:https://shriomdarbarnandachaur.com/wp-content/uploads/2017/12/moorti-closeup.jpg
END:VEVENT
BEGIN:VEVENT
DTSTART;VALUE=DATE:20171224
DTEND;VALUE=DATE:20171225
DTSTAMP:20260421T005821
CREATED:20170929T064340Z
LAST-MODIFIED:20171023T104831Z
UID:1890-1514073600-1514159999@shriomdarbarnandachaur.com
SUMMARY:Barsi : Bapu Shardha Ram Ji Maharaj (Darbaar Aadraman)
DESCRIPTION:Barsi Bapu Shardha Ram Ji Maharaj\nDarbar Aadraman\n24 December (Sunday)
URL:https://shriomdarbarnandachaur.com/event/barsi-bapu-shardha-ram-ji-maharaj-darbaar-aadraman/
LOCATION:Om Darbar\, Aadraman\, Om Darbar\, Aadraman\, Mehatpur\, Punjab\, 144041\, India
CATEGORIES:Bapu Shardha Ram Ji Maharaj,Darbar Aadraman Punjab,Programs
ATTACH;FMTTYPE=image/png:https://shriomdarbarnandachaur.com/wp-content/uploads/2017/09/banner-2b.png
END:VEVENT
BEGIN:VEVENT
DTSTART;TZID=UTC:20171231T200000
DTEND;TZID=UTC:20171231T200000
DTSTAMP:20260421T005821
CREATED:20171024T064606Z
LAST-MODIFIED:20171025T172941Z
UID:3175-1514750400-1514750400@shriomdarbarnandachaur.com
SUMMARY:New Year Celebration Nandachaur Dham
DESCRIPTION:New Year Celebration at Nandachaur Dham\nNew Year Celebration at Nandachaur Dham 8:00 pm to 12:30 am
URL:https://shriomdarbarnandachaur.com/event/new-year-celebration-nandachaur-dham/
LOCATION:Nandachaur Dham\, Hoshiyarpur Punjab\, Nandachaur Dham\, Hoshiyarpur\, jilla Hoshiyarpur\, India
CATEGORIES:Darbar Nandachaur Dham,Programs
ATTACH;FMTTYPE=image/jpeg:https://shriomdarbarnandachaur.com/wp-content/uploads/2017/10/mandir.jpg
END:VEVENT
BEGIN:VEVENT
DTSTART;TZID=UTC:20171231T200000
DTEND;TZID=UTC:20171231T200000
DTSTAMP:20260421T005821
CREATED:20171024T064841Z
LAST-MODIFIED:20171025T173630Z
UID:3177-1514750400-1514750400@shriomdarbarnandachaur.com
SUMMARY:New Year Celebration at Darbar Shri Dhakka Sahib
DESCRIPTION:New Year Celebration at Darbar Shri Dhakka Sahib\nNew Year Celebration at Darbar Dhakka Sahib 8:00 pm to 12:30 am \nDhakka Darbar\, Delhi \n 
URL:https://shriomdarbarnandachaur.com/event/new-year-celebration-at-darbar-shri-dhakka-sahib/
LOCATION:Dhakka Sahib\, Om Mandir\, Om Mandir Marg\, Mukherjee Nagar\, Delhi\, Delhi\, 110009\, India
CATEGORIES:Darbar Dhakka,Programs
ATTACH;FMTTYPE=image/jpeg:https://shriomdarbarnandachaur.com/wp-content/uploads/2017/10/dhakka.jpg
END:VEVENT
BEGIN:VEVENT
DTSTART;TZID=UTC:20180101T100000
DTEND;TZID=UTC:20180101T170000
DTSTAMP:20260421T005821
CREATED:20171222T061746Z
LAST-MODIFIED:20171222T061746Z
UID:3646-1514800800-1514826000@shriomdarbarnandachaur.com
SUMMARY:New Year Celebrations at Shri OM Mandir (Rudrapur)
DESCRIPTION:New year celebrations at Shri OM Mandir\, Rudrapur on 1/Jan/2018\, 10 AM onward. \n 
URL:https://shriomdarbarnandachaur.com/event/new-year-celebrations-at-shri-om-mandir-rudrapur/
LOCATION:Shri Om Mandir\, Darbar Rudrapur (Uttarakhand)\, 6\, Khera Colony\, Kichha By-Pass Road\, Rudrapur Dist. Udham Singh Nagar\, Uttrakhand\, 263153\, India
CATEGORIES:Darbar Rudrapur,Programs,Upcoming Events
ATTACH;FMTTYPE=image/jpeg:https://shriomdarbarnandachaur.com/wp-content/uploads/2017/12/Shri-OM-Mandir-Rudrapur.jpg
END:VEVENT
BEGIN:VEVENT
DTSTART;VALUE=DATE:20180114
DTEND;VALUE=DATE:20180214
DTSTAMP:20260421T005821
CREATED:20171224T071749Z
LAST-MODIFIED:20171224T071749Z
UID:3656-1515888000-1518566399@shriomdarbarnandachaur.com
SUMMARY:Magh Mahatam at Shri Om Mandir (Rudrapur)
DESCRIPTION:MAGH MAHATAM-AT SHRI OM MANDIR\, RUDRAPUR-263153 (UTTRAKHAND) \n14 January 2018 to13 February 2018 daily. \n\nPath – 6:00am\nAarti – 7:00am\nLangar – 7:30 am
URL:https://shriomdarbarnandachaur.com/event/magh-mahatam-at-shri-om-mandir-rudrapur/
LOCATION:Shri Om Mandir\, Darbar Rudrapur (Uttarakhand)\, 6\, Khera Colony\, Kichha By-Pass Road\, Rudrapur Dist. Udham Singh Nagar\, Uttrakhand\, 263153\, India
CATEGORIES:Darbar Rudrapur,Programs,Upcoming Events
ATTACH;FMTTYPE=image/jpeg:https://shriomdarbarnandachaur.com/wp-content/uploads/2017/10/Darbar-Rudrapur-bapu-shardha-ram-ji-maharaj-darshan.jpg
END:VEVENT
BEGIN:VEVENT
DTSTART;VALUE=DATE:20180211
DTEND;VALUE=DATE:20180215
DTSTAMP:20260421T005821
CREATED:20180207T053512Z
LAST-MODIFIED:20180207T053512Z
UID:3757-1518307200-1518652799@shriomdarbarnandachaur.com
SUMMARY:प्रकाश उत्सव एवं माँघ महातम माहायज्ञ
DESCRIPTION:
URL:https://shriomdarbarnandachaur.com/event/%e0%a4%aa%e0%a5%8d%e0%a4%b0%e0%a4%95%e0%a4%be%e0%a4%b6-%e0%a4%89%e0%a4%a4%e0%a5%8d%e0%a4%b8%e0%a4%b5-%e0%a4%8f%e0%a4%b5%e0%a4%82-%e0%a4%ae%e0%a4%be%e0%a4%81%e0%a4%98-%e0%a4%ae%e0%a4%b9%e0%a4%be/
LOCATION:Punjab
CATEGORIES:Bapu Baba Heera Singh Ji Maharaj,Darbar Jalandhar,Programs,Upcoming Events
ATTACH;FMTTYPE=image/jpeg:https://shriomdarbarnandachaur.com/wp-content/uploads/2017/10/Bapu-Heera-Singh-Ji-Maharaj.jpg
END:VEVENT
BEGIN:VEVENT
DTSTART;VALUE=DATE:20180226
DTEND;VALUE=DATE:20180228
DTSTAMP:20260421T005821
CREATED:20171222T064351Z
LAST-MODIFIED:20171222T143422Z
UID:3649-1519603200-1519775999@shriomdarbarnandachaur.com
SUMMARY:19 Smriti Mahayagya Param ​​Shradhey Bapu Bhanu Dutt Ji Maharaj
DESCRIPTION:19 वां स्मृति महायज्ञ परम् श्रधेय\, परम तपस्वी 108 बापू श्री भानु दत्त जी महाराज \,26-27 फरवरी 2018 दिन सोमवार-मंगलवार\, श्री ओम मंदिर रुद्रपुर।
URL:https://shriomdarbarnandachaur.com/event/19-smriti-mahayagya-param-%e2%80%8b%e2%80%8bshradhey/
LOCATION:Shri Om Mandir\, Darbar Rudrapur (Uttarakhand)\, 6\, Khera Colony\, Kichha By-Pass Road\, Rudrapur Dist. Udham Singh Nagar\, Uttrakhand\, 263153\, India
CATEGORIES:Bapu Bhanu Dutt Ji Maharaj,Darbar Rudrapur,Mahayagya,Programs,Upcoming Events
ATTACH;FMTTYPE=image/jpeg:https://shriomdarbarnandachaur.com/wp-content/uploads/2017/12/IMG-20171222-WA0020.jpg
END:VEVENT
BEGIN:VEVENT
DTSTART;VALUE=DATE:20180226
DTEND;VALUE=DATE:20180228
DTSTAMP:20260421T005821
CREATED:20180207T052301Z
LAST-MODIFIED:20180207T052441Z
UID:3753-1519603200-1519775999@shriomdarbarnandachaur.com
SUMMARY:19 Va Mahayagya 26\, 27 February 2018
DESCRIPTION:
URL:https://shriomdarbarnandachaur.com/event/19-va-mahayagya-26-27-february-2018/
LOCATION:Punjab
CATEGORIES:Upcoming Events
ATTACH;FMTTYPE=image/jpeg:https://shriomdarbarnandachaur.com/wp-content/uploads/2018/02/WhatsApp-Image-2018-02-06-at-9.46.23-AM.jpeg
END:VEVENT
BEGIN:VEVENT
DTSTART;TZID=UTC:20180304T051907
DTEND;TZID=UTC:20180304T051907
DTSTAMP:20260421T005821
CREATED:20180304T051907Z
LAST-MODIFIED:20180304T051907Z
UID:3808-1520140747-1520140747@shriomdarbarnandachaur.com
SUMMARY:सहरानपुर 10वां वांर्षिक महोत्सव
DESCRIPTION:सहारनपुर में उत्तराखंड मुख्यमंत्री श्री त्रिवेन्द्र सिंह रावत जी को श्री बाँके बिहारी जी का स्वरूप भेंट करते एवं शुभकामनाएं देते महामंडलेश्वर संत श्री सुभाष बापू जी महाराज । \n \nसहरानपुर में 10वां वांर्षिक महोत्सव के अवसर पर बोलते मुख्यमंत्री त्रिवेंद्र सिंह रावत जी मंच पर आसीन महामंडलेश्वर स्वामी श्री ज्ञानानन्द जी महाराज \, स्वामीश्री : अविमुक्तेश्वरानन्द सरस्वती जी महाराज \, एवम् साथ में महामंडलेश्वर संत श्री सुभाष बापू जी महाराज ।
URL:https://shriomdarbarnandachaur.com/event/%e0%a4%b8%e0%a4%b9%e0%a4%b0%e0%a4%be%e0%a4%a8%e0%a4%aa%e0%a5%81%e0%a4%b0-10%e0%a4%b5%e0%a4%be%e0%a4%82-%e0%a4%b5%e0%a4%be%e0%a4%82%e0%a4%b0%e0%a5%8d%e0%a4%b7%e0%a4%bf%e0%a4%95-%e0%a4%ae%e0%a4%b9/
LOCATION:Punjab
CATEGORIES:Bapu Subhash ji Maharaj,Darbar Saharanpur,Programs
ATTACH;FMTTYPE=image/jpeg:https://shriomdarbarnandachaur.com/wp-content/uploads/2018/03/WhatsApp-Image-2018-02-22-at-9.27.55-AM.jpeg
END:VEVENT
BEGIN:VEVENT
DTSTART;TZID=UTC:20180304T103000
DTEND;TZID=UTC:20180304T140000
DTSTAMP:20260421T005821
CREATED:20180304T062413Z
LAST-MODIFIED:20180304T062413Z
UID:3821-1520159400-1520172000@shriomdarbarnandachaur.com
SUMMARY:19th Mahayag of Bapu Bhanu Dutt ji Maharaj
DESCRIPTION:19th Mahayag of Bapu Bhanu Dutt Ji Maharaj will be celebrated on 4th March (Sunday) from 10:30 am to 02:00 pm at Om Mandir\, Dhakka\, Delhi. All are invited.
URL:https://shriomdarbarnandachaur.com/event/19th-mahayag-of-bapu-bhanu-dutt-ji-maharaj/
LOCATION:Om Mandir Dhakka\, India
CATEGORIES:Bapu Bhanu Dutt Ji Maharaj,Darbar Dhakka,Mahayagya,Programs,Upcoming Events
ATTACH;FMTTYPE=image/jpeg:https://shriomdarbarnandachaur.com/wp-content/uploads/2018/03/WhatsApp-Image-2018-03-03-at-11.59.35-PM.jpeg
END:VEVENT
BEGIN:VEVENT
DTSTART;VALUE=DATE:20180324
DTEND;VALUE=DATE:20180327
DTSTAMP:20260421T005821
CREATED:20180324T110530Z
LAST-MODIFIED:20180324T110530Z
UID:3860-1521849600-1522108799@shriomdarbarnandachaur.com
SUMMARY:Sakirtan and Yagya Darbar Amritsar 24\, 25 & 26 March 2018
DESCRIPTION:
URL:https://shriomdarbarnandachaur.com/event/sakirtan-and-yagya-darbar-amritsar-24-25-26-march-2018/
LOCATION:Punjab
CATEGORIES:Bapu Gosai Ram Ji Maharaj,Darbar Amritsar,Programs,Upcoming Events
ATTACH;FMTTYPE=image/jpeg:https://shriomdarbarnandachaur.com/wp-content/uploads/2018/03/Sakirtan-and-Yagya-Darbar-Amritsar.jpg
END:VEVENT
BEGIN:VEVENT
DTSTART;TZID=UTC:20180325T100000
DTEND;TZID=UTC:20180325T140000
DTSTAMP:20260421T005821
CREATED:20180325T064748Z
LAST-MODIFIED:20180325T064748Z
UID:3867-1521972000-1521986400@shriomdarbarnandachaur.com
SUMMARY:Mahayagya of Bapu Gurdass Ram Ji Maharaj 25/3/2018
DESCRIPTION:Mahayagya of Bapu Gurdass Ram Ji Maharaj will be celebrated on 25/3/2018 (Sunday) from 10:30am to 2pm at Om Mandir Dhakka\, Delhi. All are invited. \n\n\n10:30 Bhog path Ramayan ji\n11:30 Path Sunder kand\n01:00 Bhajan kirtan\n01:30 Ardas\, Jhanda Sahib\, Langer
URL:https://shriomdarbarnandachaur.com/event/mahayagya-of-bapu-gurdass-ram-ji-maharaj-25-3-2018/
LOCATION:Dhakka Sahib\, Om Mandir\, Om Mandir Marg\, Mukherjee Nagar\, Delhi\, Delhi\, 110009\, India
CATEGORIES:Bapu Gurudas Ji Maharaj,Darbar Dhakka,Mahayagya,Programs
ATTACH;FMTTYPE=image/jpeg:https://shriomdarbarnandachaur.com/wp-content/uploads/2018/03/Bapu-Gurdass-Ram-Ji-Maharaj.jpeg
END:VEVENT
BEGIN:VEVENT
DTSTART;TZID=UTC:20180329T070000
DTEND;TZID=UTC:20180329T140000
DTSTAMP:20260421T005821
CREATED:20180321T065625Z
LAST-MODIFIED:20180331T070714Z
UID:3843-1522306800-1522332000@shriomdarbarnandachaur.com
SUMMARY:26 वां वांर्षिक सत्संग यज्ञ 29 March 2018
DESCRIPTION:26 वां वांर्षिक सत्संग यज्ञ 29 March 2018 \n\n		\n		\n			\n				\n			\n			\n				\n			\n			\n				\n			\n			\n				\n			\n			\n				\n			\n			\n				\n			\n			\n				\n			\n			\n				\n			\n			\n		\n\n  \n 
URL:https://shriomdarbarnandachaur.com/event/26-%e0%a4%b5%e0%a4%be%e0%a4%82-%e0%a4%b5%e0%a4%be%e0%a4%82%e0%a4%b0%e0%a5%8d%e0%a4%b7%e0%a4%bf%e0%a4%95-%e0%a4%b8%e0%a4%a4%e0%a5%8d%e0%a4%b8%e0%a4%82%e0%a4%97-%e0%a4%af%e0%a4%9c%e0%a5%8d%e0%a4%9e-29-m/
LOCATION:Shri Om Darbar\, Budhpur (Delhi)\, Sant Shardha Ram Aashram Road\, Village Budhpur\, G.T.Road\, Village Budhpur\, Delhi\, 110036\, India
CATEGORIES:Bapu Satya pal Ji Maharaj,Darbar Budhpur Delhi,Programs,Upcoming Events
ATTACH;FMTTYPE=image/jpeg:https://shriomdarbarnandachaur.com/wp-content/uploads/2018/03/26-वां-वांर्षिक-सत्संग-यज्ञ-29-March-2018.jpeg
END:VEVENT
BEGIN:VEVENT
DTSTART;TZID=UTC:20180401T153000
DTEND;TZID=UTC:20180401T183000
DTSTAMP:20260421T005821
CREATED:20180325T092707Z
LAST-MODIFIED:20180325T092707Z
UID:3873-1522596600-1522607400@shriomdarbarnandachaur.com
SUMMARY:Sant Shri Subhash Bapu Ji Maharaj Satsang and Bhandara 1 April 2018
DESCRIPTION:Sant Shri Subhash Bapu Ji Maharaj Satsang and Bhandara 1 April 2018.
URL:https://shriomdarbarnandachaur.com/event/sant-shri-subhash-bapu-ji-maharaj-satsang-and-bhandara-1-april-2018/
LOCATION:Punjab
CATEGORIES:Bapu Subhash ji Maharaj,Darbar Saharanpur,Programs,Upcoming Events
ATTACH;FMTTYPE=image/jpeg:https://shriomdarbarnandachaur.com/wp-content/uploads/2018/03/WhatsApp-Image-2018-03-25-at-2.22.05-PM.jpeg
END:VEVENT
BEGIN:VEVENT
DTSTART;VALUE=DATE:20180419
DTEND;VALUE=DATE:20180421
DTSTAMP:20260421T005821
CREATED:20180417T085128Z
LAST-MODIFIED:20180417T085325Z
UID:3922-1524096000-1524268799@shriomdarbarnandachaur.com
SUMMARY:23rd Sant Samelan HARIDWAR
DESCRIPTION:आप सभी संगत जालंधर आश्रम हरिद्वार में 23 वां संत समेलन 19\, 20 अप्रैल को सादर आमंत्रित हैं। आप सभी संगत समेलन में आकर अपनी हाजरी दे कर बापू जी का आशीर्वाद प्राप्त कर धर्म लाभ उठाये। जय बापू दी। \n\n 
URL:https://shriomdarbarnandachaur.com/event/23rd-sant-samelan-haridwar/
LOCATION:Haridwar\, India
CATEGORIES:Bapu Shyam Das Ji Maharaj,Darbar Haridwar,Darbar Jalandhar,Programs,Upcoming Events
ATTACH;FMTTYPE=image/jpeg:https://shriomdarbarnandachaur.com/wp-content/uploads/2018/04/BapuShyamDasJi.jpg
END:VEVENT
BEGIN:VEVENT
DTSTART;TZID=UTC:20180502T100000
DTEND;TZID=UTC:20180502T123000
DTSTAMP:20260421T005821
CREATED:20180413T112133Z
LAST-MODIFIED:20180413T112902Z
UID:3909-1525255200-1525264200@shriomdarbarnandachaur.com
SUMMARY:19 Vaisaakh - Prakash Utsav Bapu Shardha Ram ji Maharaaj (2 May 2018)
DESCRIPTION:  \n2 May (19 vaisaakh) 2018 \nPrakash Utsav Bapu Shardha Ram ji Maharaaj \nDarbar Dhakka (Delhi) \nTimings:10:00am to 12:30pm
URL:https://shriomdarbarnandachaur.com/event/19-vaisaakh-prakash-utsav-bapu-shardha-ram-ji-maharaaj-2-may-2018/
LOCATION:Om Mandir Dhakka\, India
CATEGORIES:Bapu Shardha Ram Ji Maharaj,Darbar Dhakka,Prakash Utsav,Programs,Upcoming Events
ATTACH;FMTTYPE=image/jpeg:https://shriomdarbarnandachaur.com/wp-content/uploads/2018/04/19-Vaisaakh-Prakash-Utsav-Bapu-Shardha-Ram-ji-Maharaaj-2-May-2018.jpg
END:VEVENT
BEGIN:VEVENT
DTSTART;TZID=UTC:20180503T100000
DTEND;TZID=UTC:20180503T123000
DTSTAMP:20260421T005821
CREATED:20180413T114403Z
LAST-MODIFIED:20180413T114403Z
UID:3919-1525341600-1525350600@shriomdarbarnandachaur.com
SUMMARY:20 Vaisaakh – Prakash Utsav Bapu Shardha Ram ji Maharaaj (3 May 2018)
DESCRIPTION:3 May (20 vaisaakh) 2018 \nPrakash Utsav Bapu Shardha Ram ji Maharaaj \nDarbar Dhakka (Delhi) \nTimings:10:00am to 12:30pm
URL:https://shriomdarbarnandachaur.com/event/20-vaisaakh-prakash-utsav-bapu-shardha-ram-ji-maharaaj-3-may-2018/
LOCATION:Om Mandir Dhakka\, India
CATEGORIES:Bapu Shardha Ram Ji Maharaj,Darbar Dhakka,Prakash Utsav,Programs,Upcoming Events
ATTACH;FMTTYPE=image/jpeg:https://shriomdarbarnandachaur.com/wp-content/uploads/2018/04/20-Vaisaakh-Prakash-Utsav-Bapu-Shardha-Ram-ji-Maharaaj.jpg
END:VEVENT
BEGIN:VEVENT
DTSTART;VALUE=DATE:20180509
DTEND;VALUE=DATE:20180510
DTSTAMP:20260421T005821
CREATED:20180511T100401Z
LAST-MODIFIED:20180511T100401Z
UID:4039-1525824000-1525910399@shriomdarbarnandachaur.com
SUMMARY:Darbar Atti - Prakash Utsav Bapu Shardha Ram ji Maharaaj (9 May 2018)
DESCRIPTION:Prakash Utsav Bapu Shardha Ram ji Maharaaj Darbar Atti (9 May 2018)
URL:https://shriomdarbarnandachaur.com/event/darbar-atti-prakash-utsav-bapu-shardha-ram-ji-maharaaj-9-may-2018/
LOCATION:Punjab
CATEGORIES:Bapu Shardha Ram Ji Maharaj,Prakash Utsav,Programs
ATTACH;FMTTYPE=image/jpeg:https://shriomdarbarnandachaur.com/wp-content/uploads/2018/05/WhatsApp-Image-2018-05-09-at-11.35.05-PM.jpeg
END:VEVENT
BEGIN:VEVENT
DTSTART;VALUE=DATE:20180523
DTEND;VALUE=DATE:20180524
DTSTAMP:20260421T005821
CREATED:20180428T111140Z
LAST-MODIFIED:20180428T111140Z
UID:3977-1527033600-1527119999@shriomdarbarnandachaur.com
SUMMARY:Prakash Utsav Bapu Om Narayan Dutt Ji Maharaaj (23 May 2018)
DESCRIPTION:Prakash Utsav Bapu Om Narayan Dutt Ji Maharaaj (23 May 2018) at Shri Om Darbar Nandachaur.
URL:https://shriomdarbarnandachaur.com/event/prakash-utsav-bapu-om-narayan-dutt-ji-maharaaj-23-may-2018/
LOCATION:Nandachaur Dham\, Hoshiyarpur Punjab\, Nandachaur Dham\, Hoshiyarpur\, jilla Hoshiyarpur\, India
CATEGORIES:Darbar Nandachaur Dham,Om Bapu Narayan Dutt Ji Maharaaj,Prakash Utsav,Programs,Upcoming Events
ATTACH;FMTTYPE=image/jpeg:https://shriomdarbarnandachaur.com/wp-content/uploads/2018/04/Prakash-Utsav-Bapu-Om-Narayan-Dutt-Ji-Maharaaj-23-May-2018.jpg
END:VEVENT
END:VCALENDAR