BEGIN:VCALENDAR
VERSION:2.0
PRODID:-//Shri Om Darbar Nandachaur - ECPv6.8.3//NONSGML v1.0//EN
CALSCALE:GREGORIAN
METHOD:PUBLISH
X-WR-CALNAME:Shri Om Darbar Nandachaur
X-ORIGINAL-URL:https://shriomdarbarnandachaur.com
X-WR-CALDESC:Events for Shri Om Darbar Nandachaur
REFRESH-INTERVAL;VALUE=DURATION:PT1H
X-Robots-Tag:noindex
X-PUBLISHED-TTL:PT1H
BEGIN:VTIMEZONE
TZID:UTC
BEGIN:STANDARD
TZOFFSETFROM:+0000
TZOFFSETTO:+0000
TZNAME:UTC
DTSTART:20190101T000000
END:STANDARD
END:VTIMEZONE
BEGIN:VEVENT
DTSTART;TZID=UTC:20191212T110000
DTEND;TZID=UTC:20191212T143000
DTSTAMP:20260421T145814
CREATED:20191211T045623Z
LAST-MODIFIED:20191211T045623Z
UID:4614-1576148400-1576161000@shriomdarbarnandachaur.com
SUMMARY:Punya Smriti Brahmleen Shri Sant Pujyapad Bapu Dayakishan Ji Maharaj
DESCRIPTION:Punya Smriti Brahmleen Shri Sant Pujyapad Bapu Dayakishan Ji Maharaj
URL:https://shriomdarbarnandachaur.com/event/punya-smriti-brahmleen-shri-sant-pujyapad-bapu-dayakishan-ji-maharaj/
LOCATION:Darbar Saharanpur
CATEGORIES:Bapu Dayakishan Ji Maharaj,Darbar Saharanpur,Mahayagya,Programs,Upcoming Events
ATTACH;FMTTYPE=image/jpeg:https://shriomdarbarnandachaur.com/wp-content/uploads/2019/12/WhatsApp-Image-2019-12-08-at-10.58.12-PM.jpeg
END:VEVENT
BEGIN:VEVENT
DTSTART;VALUE=DATE:20191222
DTEND;VALUE=DATE:20191223
DTSTAMP:20260421T145814
CREATED:20191213T101813Z
LAST-MODIFIED:20191213T101813Z
UID:4621-1576972800-1577059199@shriomdarbarnandachaur.com
SUMMARY:Barsi Bapu Shardha Ram Ji Maharaj (22 December 2019)
DESCRIPTION:Barsi Bapu Shardha Ram Ji Maharaj\n(22 December 2019)\nDarbar Aadraman
URL:https://shriomdarbarnandachaur.com/event/barsi-bapu-shardha-ram-ji-maharaj-22-december-2019/
LOCATION:Om Darbar\, Aadraman\, Om Darbar\, Aadraman\, Mehatpur\, Punjab\, 144041\, India
CATEGORIES:Bapu Shardha Ram Ji Maharaj,Darbar Aadraman Punjab,Programs,Upcoming Events
ATTACH;FMTTYPE=image/jpeg:https://shriomdarbarnandachaur.com/wp-content/uploads/2019/12/Barsi-Bapu-Shardha-Ram-Ji-Maharaj.jpg
END:VEVENT
BEGIN:VEVENT
DTSTART;TZID=UTC:20191231T220000
DTEND;TZID=UTC:20200101T003000
DTSTAMP:20260421T145814
CREATED:20191231T070208Z
LAST-MODIFIED:20191231T070208Z
UID:4630-1577829600-1577838600@shriomdarbarnandachaur.com
SUMMARY:नव वर्ष की पूर्व संध्या गुरु धाम में (31/12/2019) ओम मंदिर ढक्का\, दिल्ली
DESCRIPTION:जय बापू दी जी 🙏🙏\n“नव वर्ष की पूर्व संध्या गुरु धाम में”\n\n31/12/2019 \nरात्रि 10 बजे से 12:30 बजे तक \nशब्द कीर्तन\, भजन \, अरदास\, \nआप सब सादर आमंत्रित हैं \nओम मंदिर ढक्का\, दिल्ली
URL:https://shriomdarbarnandachaur.com/event/%e0%a4%a8%e0%a4%b5-%e0%a4%b5%e0%a4%b0%e0%a5%8d%e0%a4%b7-%e0%a4%95%e0%a5%80-%e0%a4%aa%e0%a5%82%e0%a4%b0%e0%a5%8d%e0%a4%b5-%e0%a4%b8%e0%a4%82%e0%a4%a7%e0%a5%8d%e0%a4%af%e0%a4%be-%e0%a4%97%e0%a5%81/
LOCATION:Om Mandir Dhakka\, India
CATEGORIES:Darbar Dhakka,Programs,Upcoming Events
ATTACH;FMTTYPE=image/jpeg:https://shriomdarbarnandachaur.com/wp-content/uploads/2019/12/नव-वर्ष-की-पूर्व-संध्या-गुरु-धाम-में-ओम-मंदिर-ढक्का-दिल्ली.jpg
END:VEVENT
BEGIN:VEVENT
DTSTART;TZID=UTC:20200101T150000
DTEND;TZID=UTC:20200101T170000
DTSTAMP:20260421T145814
CREATED:20191231T064549Z
LAST-MODIFIED:20191231T064549Z
UID:4628-1577890800-1577898000@shriomdarbarnandachaur.com
SUMMARY:Shree Subhash Bapu Ji Maharaj Satsang & Pravachan (1 Jan 2020)
DESCRIPTION:Shree Subhash Bapu Ji Maharaj Satsang & Pravachan (1 Jan 2020)
URL:https://shriomdarbarnandachaur.com/event/shree-subhash-bapu-ji-maharaj-satsang-pravachan-1-jan-2020/
LOCATION:Uttrakhand
CATEGORIES:Bapu Subhash ji Maharaj,Programs,Upcoming Events
ATTACH;FMTTYPE=image/jpeg:https://shriomdarbarnandachaur.com/wp-content/uploads/2019/12/WhatsApp-Image-2019-12-27-at-11.14.33-AM.jpeg
END:VEVENT
BEGIN:VEVENT
DTSTART;TZID=UTC:20200210T110000
DTEND;TZID=UTC:20200210T140000
DTSTAMP:20260421T145814
CREATED:20200120T064930Z
LAST-MODIFIED:20200120T065046Z
UID:4636-1581332400-1581343200@shriomdarbarnandachaur.com
SUMMARY:Shree Subhash Bapu Ji Maharaj Janam Utsav (10 Feb 2020)
DESCRIPTION:
URL:https://shriomdarbarnandachaur.com/event/shree-subhash-bapu-ji-maharaj-janam-utsav-10-feb-2020/
LOCATION:Darbar Saharanpur
CATEGORIES:Bapu Subhash ji Maharaj,Darbar Saharanpur,Programs,Upcoming Events
ATTACH;FMTTYPE=image/jpeg:https://shriomdarbarnandachaur.com/wp-content/uploads/2020/01/WhatsApp-Image-2020-01-20-at-11.21.10-AM.jpeg
END:VEVENT
BEGIN:VEVENT
DTSTART;TZID=UTC:20200223T103000
DTEND;TZID=UTC:20200223T143000
DTSTAMP:20260421T145814
CREATED:20200220T052932Z
LAST-MODIFIED:20200220T052932Z
UID:4660-1582453800-1582468200@shriomdarbarnandachaur.com
SUMMARY:Mahayagya of Bapu Harbhagwan Ji Maharaj | 23/02/20 | Om Mandir Dhakka\, Delhi
DESCRIPTION:Jai Bapu di Ji 🙏🙏\n \nMahayag of Bapu Harbhagwan Ji Maharaj\nwill be celebrated on 23/02/20 (Sunday) from 10:30 am to 02:30 pm at Om Mandir Dhakka\, Delhi. All are invited \n10:30 am to 11:30 am Bhog path\, Ramayan Ji \n11:30 am to 2:30 pm Bhajan\, kirtan\, Ardas\, Jhanda Sahib\, Guru ka langer \n(01:15 pm to 2 pm) Documentary on the life of Bapu Harbhagwan Ji Maharaj
URL:https://shriomdarbarnandachaur.com/event/mahayagya-of-bapu-harbhagwan-ji-maharaj-23-02-20-om-mandir-dhakka-delhi/
LOCATION:Om Mandir Dhakka\, India
CATEGORIES:Bapu Harbhagwan Ji Maharaj,Darbar Dhakka,Mahayagya,Programs,Upcoming Events
ATTACH;FMTTYPE=image/jpeg:https://shriomdarbarnandachaur.com/wp-content/uploads/2020/02/Mahayagya-of-Bapu-Harbhagwan-Ji-Maharaj.jpg
END:VEVENT
BEGIN:VEVENT
DTSTART;TZID=UTC:20200223T103000
DTEND;TZID=UTC:20200223T143000
DTSTAMP:20260421T145814
CREATED:20200220T055043Z
LAST-MODIFIED:20200220T055043Z
UID:4670-1582453800-1582468200@shriomdarbarnandachaur.com
SUMMARY:300th Prakash Utsav of Bapu Panap Dev Ji Maharaj | 23/02/20 | Om Mandir Dhakka\, Delhi
DESCRIPTION:Jai Bapu di Ji 🙏🙏\n\n300th Prakash Utsav of Bapu Panap Dev Ji Maharaj\nwill be celebrated on 23/02/20 (Sunday) from 10:30 am to 02:30 pm at Om Mandir Dhakka\, Delhi. All are invited \n10:30 am to 11:30 am Bhog path\, Ramayan Ji \n11:30 am to 2:30 pm Bhajan\, kirtan\, Ardas\, Jhanda Sahib\, Guru ka langer \n(01:15 pm to 2 pm) Documentary on the life of Bapu Harbhagwan Ji Maharaj
URL:https://shriomdarbarnandachaur.com/event/300th-prakash-utsav-of-bapu-panap-dev-ji-maharaj-23-02-20-om-mandir-dhakka-delhi/
LOCATION:Om Mandir Dhakka\, India
CATEGORIES:Bapu Panap Dev Ji Maharaj,Darbar Dhakka,Panap Dev Events,Prakash Utsav,Programs,Upcoming Events
ATTACH;FMTTYPE=image/jpeg:https://shriomdarbarnandachaur.com/wp-content/uploads/2020/02/300th-Prakash-Utsav-of-Bapu-Panap-Dev-Ji-Maharaj.jpg
END:VEVENT
BEGIN:VEVENT
DTSTART;VALUE=DATE:20200227
DTEND;VALUE=DATE:20200229
DTSTAMP:20260421T145814
CREATED:20200213T122035Z
LAST-MODIFIED:20200220T081021Z
UID:4649-1582761600-1582934399@shriomdarbarnandachaur.com
SUMMARY:21 Va Mahayagya | Bapu Bhanu Dutt Ji Maharaj Punya Smriti | 27\, 28 Feb 2020
DESCRIPTION:🕉परम पूज्यनीयॅ \,प्रातः स्मरणीय 108 बापू भानुदत्त जी महाराज जी साहिब जी की पुण्य स्मृति में रुद्रपुर स्थित श्री ओम \nमंदिर में आयोजित 21 वें महायज्ञ (27 व 28 फ़रवरी) में आप सभी की सपरिवार उपस्थिति सादर प्रार्थनीय है। \nकार्यक्रमानुसार हाजिरी लगा पुण्य के भागी बने।🙏🙏
URL:https://shriomdarbarnandachaur.com/event/21-va-mahayagya-bapu-bhanu-dutt-ji-maharaj-punya-smriti-27-28-feb-2020/
LOCATION:Shri Om Mandir\, Darbar Rudrapur (Uttarakhand)\, 6\, Khera Colony\, Kichha By-Pass Road\, Rudrapur Dist. Udham Singh Nagar\, Uttrakhand\, 263153\, India
CATEGORIES:Bapu Bhanu Dutt Ji Maharaj,Darbar Rudrapur,Mahayagya,Programs,Upcoming Events
ATTACH;FMTTYPE=image/jpeg:https://shriomdarbarnandachaur.com/wp-content/uploads/2020/02/WhatsApp-Image-2020-02-13-at-5.33.13-PM.jpeg
END:VEVENT
BEGIN:VEVENT
DTSTART;VALUE=DATE:20200304
DTEND;VALUE=DATE:20200307
DTSTAMP:20260421T145814
CREATED:20200217T051523Z
LAST-MODIFIED:20200217T051523Z
UID:4656-1583280000-1583539199@shriomdarbarnandachaur.com
SUMMARY:33 Va Mahayagya & Sant Sammelan Subhash Bapu Ji Maharaj (4\, 5\, 6 March 2020)
DESCRIPTION:
URL:https://shriomdarbarnandachaur.com/event/33-va-mahayagya-sant-sammelan-subhash-bapu-ji-maharaj-4-5-6-march-2020/
LOCATION:Uttrakhand
CATEGORIES:Bapu Subhash ji Maharaj,Darbar Gadarpur,Mahayagya,Programs,Upcoming Events
ATTACH;FMTTYPE=image/jpeg:https://shriomdarbarnandachaur.com/wp-content/uploads/2020/02/WhatsApp-Image-2020-02-16-at-10.19.59-PM.jpeg
END:VEVENT
BEGIN:VEVENT
DTSTART;VALUE=DATE:20200314
DTEND;VALUE=DATE:20200315
DTSTAMP:20260421T145814
CREATED:20200313T120824Z
LAST-MODIFIED:20200313T120824Z
UID:4686-1584144000-1584230399@shriomdarbarnandachaur.com
SUMMARY:Sankrant at Darbar Nandachaur Dham (14 March 2020)
DESCRIPTION:Sankrant at Darbar Nandachaur Dham\n(14 March 2020)
URL:https://shriomdarbarnandachaur.com/event/sankrant-at-darbar-nandachaur-dham-14-march-2020/
LOCATION:Nandachaur Dham\, Hoshiyarpur Punjab\, Nandachaur Dham\, Hoshiyarpur\, jilla Hoshiyarpur\, India
CATEGORIES:Darbar Nandachaur Dham,Programs,Upcoming Events
ATTACH;FMTTYPE=image/jpeg:https://shriomdarbarnandachaur.com/wp-content/uploads/2020/03/Sankrant-at-Darbar-Nandachaur-Dham-14-March-2020.jpg
END:VEVENT
BEGIN:VEVENT
DTSTART;VALUE=DATE:20200316
DTEND;VALUE=DATE:20200319
DTSTAMP:20260421T145814
CREATED:20200303T054626Z
LAST-MODIFIED:20200303T054626Z
UID:4678-1584316800-1584575999@shriomdarbarnandachaur.com
SUMMARY:68 Va Salana Mahayagya | Murti Sthapana Divas (16\, 17\, 18 March)
DESCRIPTION:
URL:https://shriomdarbarnandachaur.com/event/68-va-salana-mahayagya-murti-sthapana-divas-16-17-18-march/
LOCATION:Shri Om Darbar\, Malout (Punjab)\, Shri Harnam Shardha Ram Satsang-Sabha (Regd.) Krishna nagar camp\, Ward No.-4\, Malout\, Distt. Muktsar\, Punjab\, India
CATEGORIES:Bapu Shardha Ram Ji Maharaj,Darbar Malout,Mahayagya,Om Bapu Narayan Dutt Ji Maharaaj,Programs,Upcoming Events
ATTACH;FMTTYPE=image/jpeg:https://shriomdarbarnandachaur.com/wp-content/uploads/2020/03/WhatsApp-Image-2020-03-03-at-9.48.48-AM.jpeg
END:VEVENT
BEGIN:VEVENT
DTSTART;VALUE=DATE:20200413
DTEND;VALUE=DATE:20200414
DTSTAMP:20260421T145814
CREATED:20200314T055859Z
LAST-MODIFIED:20200314T055859Z
UID:4693-1586736000-1586822399@shriomdarbarnandachaur.com
SUMMARY:Sankrant at Darbar Nandachaur Dham (13 April 2020)
DESCRIPTION:Sankrant at Darbar Nandachaur Dham\n(13 April 2020)
URL:https://shriomdarbarnandachaur.com/event/sankrant-at-darbar-nandachaur-dham-13-april-2020/
LOCATION:Nandachaur Dham\, Hoshiyarpur Punjab\, Nandachaur Dham\, Hoshiyarpur\, jilla Hoshiyarpur\, India
CATEGORIES:Darbar Nandachaur Dham,Programs,Upcoming Events
ATTACH;FMTTYPE=image/jpeg:https://shriomdarbarnandachaur.com/wp-content/uploads/2020/03/Sankrant-at-Darbar-Nandachaur-Dham-13-April-2020.jpg
END:VEVENT
BEGIN:VEVENT
DTSTART;VALUE=DATE:20200514
DTEND;VALUE=DATE:20200515
DTSTAMP:20260421T145814
CREATED:20200314T060954Z
LAST-MODIFIED:20200314T060954Z
UID:4697-1589414400-1589500799@shriomdarbarnandachaur.com
SUMMARY:Sankrant at Darbar Nandachaur Dham (14 May 2020)
DESCRIPTION:Sankrant at Darbar Nandachaur Dham\n(14 May 2020)
URL:https://shriomdarbarnandachaur.com/event/sankrant-at-darbar-nandachaur-dham-14-may-2020/
LOCATION:Nandachaur Dham\, Hoshiyarpur Punjab\, Nandachaur Dham\, Hoshiyarpur\, jilla Hoshiyarpur\, India
CATEGORIES:Darbar Nandachaur Dham,Programs,Upcoming Events
ATTACH;FMTTYPE=image/jpeg:https://shriomdarbarnandachaur.com/wp-content/uploads/2020/03/Sankrant-at-Darbar-Nandachaur-Dham-14-May-2020.jpg
END:VEVENT
BEGIN:VEVENT
DTSTART;VALUE=DATE:20200614
DTEND;VALUE=DATE:20200615
DTSTAMP:20260421T145814
CREATED:20200314T061625Z
LAST-MODIFIED:20200314T061625Z
UID:4701-1592092800-1592179199@shriomdarbarnandachaur.com
SUMMARY:Sankrant at Darbar Nandachaur Dham (14 June 2020)
DESCRIPTION:Sankrant at Darbar Nandachaur Dham\n(14 June 2020)
URL:https://shriomdarbarnandachaur.com/event/sankrant-at-darbar-nandachaur-dham-14-june-2020/
LOCATION:Nandachaur Dham\, Hoshiyarpur Punjab\, Nandachaur Dham\, Hoshiyarpur\, jilla Hoshiyarpur\, India
CATEGORIES:Darbar Nandachaur Dham,Programs,Upcoming Events
ATTACH;FMTTYPE=image/jpeg:https://shriomdarbarnandachaur.com/wp-content/uploads/2020/03/Sankrant-at-Darbar-Nandachaur-Dham-14-June-2020.jpg
END:VEVENT
BEGIN:VEVENT
DTSTART;VALUE=DATE:20200716
DTEND;VALUE=DATE:20200717
DTSTAMP:20260421T145814
CREATED:20200314T062436Z
LAST-MODIFIED:20200314T062436Z
UID:4705-1594857600-1594943999@shriomdarbarnandachaur.com
SUMMARY:Sankrant at Darbar Nandachaur Dham (16 July 2020)
DESCRIPTION:Sankrant at Darbar Nandachaur Dham\n(16 July 2020)
URL:https://shriomdarbarnandachaur.com/event/sankrant-at-darbar-nandachaur-dham-16-july-2020/
LOCATION:Nandachaur Dham\, Hoshiyarpur Punjab\, Nandachaur Dham\, Hoshiyarpur\, jilla Hoshiyarpur\, India
CATEGORIES:Darbar Nandachaur Dham,Programs,Upcoming Events
ATTACH;FMTTYPE=image/jpeg:https://shriomdarbarnandachaur.com/wp-content/uploads/2020/03/Sankrant-at-Darbar-Nandachaur-Dham-16-July-2020.jpg
END:VEVENT
BEGIN:VEVENT
DTSTART;VALUE=DATE:20200816
DTEND;VALUE=DATE:20200817
DTSTAMP:20260421T145814
CREATED:20200314T065618Z
LAST-MODIFIED:20200314T065618Z
UID:4709-1597536000-1597622399@shriomdarbarnandachaur.com
SUMMARY:Sankrant at Darbar Nandachaur Dham (16 August 2020)
DESCRIPTION:Sankrant at Darbar Nandachaur Dham\n(16 August 2020)
URL:https://shriomdarbarnandachaur.com/event/sankrant-at-darbar-nandachaur-dham-16-august-2020/
LOCATION:Nandachaur Dham\, Hoshiyarpur Punjab\, Nandachaur Dham\, Hoshiyarpur\, jilla Hoshiyarpur\, India
CATEGORIES:Darbar Nandachaur Dham,Programs,Upcoming Events
ATTACH;FMTTYPE=image/jpeg:https://shriomdarbarnandachaur.com/wp-content/uploads/2020/03/Sankrant-at-Darbar-Nandachaur-Dham-16-August-2020.jpg
END:VEVENT
BEGIN:VEVENT
DTSTART;VALUE=DATE:20200916
DTEND;VALUE=DATE:20200917
DTSTAMP:20260421T145814
CREATED:20200314T070311Z
LAST-MODIFIED:20200314T070311Z
UID:4713-1600214400-1600300799@shriomdarbarnandachaur.com
SUMMARY:Sankrant at Darbar Nandachaur Dham (16 September 2020)
DESCRIPTION:Sankrant at Darbar Nandachaur Dham\n(16 September 2020)
URL:https://shriomdarbarnandachaur.com/event/sankrant-at-darbar-nandachaur-dham-16-september-2020/
LOCATION:Nandachaur Dham\, Hoshiyarpur Punjab\, Nandachaur Dham\, Hoshiyarpur\, jilla Hoshiyarpur\, India
CATEGORIES:Darbar Nandachaur Dham,Programs,Upcoming Events
ATTACH;FMTTYPE=image/jpeg:https://shriomdarbarnandachaur.com/wp-content/uploads/2020/03/Sankrant-at-Darbar-Nandachaur-Dham-16-September-2020.jpg
END:VEVENT
BEGIN:VEVENT
DTSTART;VALUE=DATE:20201017
DTEND;VALUE=DATE:20201018
DTSTAMP:20260421T145814
CREATED:20200314T071442Z
LAST-MODIFIED:20200314T071504Z
UID:4717-1602892800-1602979199@shriomdarbarnandachaur.com
SUMMARY:Sankrant at Darbar Nandachaur Dham (17 October 2020)
DESCRIPTION:Sankrant at Darbar Nandachaur Dham\n(17 October 2020)
URL:https://shriomdarbarnandachaur.com/event/sankrant-at-darbar-nandachaur-dham-17-october-2020/
LOCATION:Nandachaur Dham\, Hoshiyarpur Punjab\, Nandachaur Dham\, Hoshiyarpur\, jilla Hoshiyarpur\, India
CATEGORIES:Darbar Nandachaur Dham,Programs,Upcoming Events
ATTACH;FMTTYPE=image/jpeg:https://shriomdarbarnandachaur.com/wp-content/uploads/2020/03/Sankrant-at-Darbar-Nandachaur-Dham-17-October-2020.jpg
END:VEVENT
BEGIN:VEVENT
DTSTART;VALUE=DATE:20201115
DTEND;VALUE=DATE:20201116
DTSTAMP:20260421T145814
CREATED:20200314T072544Z
LAST-MODIFIED:20200314T072902Z
UID:4722-1605398400-1605484799@shriomdarbarnandachaur.com
SUMMARY:Sankrant at Darbar Nandachaur Dham (15 November 2020)
DESCRIPTION:Sankrant at Darbar Nandachaur Dham\n(15 November 2020)
URL:https://shriomdarbarnandachaur.com/event/sankrant-at-darbar-nandachaur-dham-18-november-2020/
LOCATION:Nandachaur Dham\, Hoshiyarpur Punjab\, Nandachaur Dham\, Hoshiyarpur\, jilla Hoshiyarpur\, India
CATEGORIES:Darbar Nandachaur Dham,Programs,Upcoming Events
ATTACH;FMTTYPE=image/jpeg:https://shriomdarbarnandachaur.com/wp-content/uploads/2020/03/Sankrant-at-Darbar-Nandachaur-Dham-15-November-2020.jpg
END:VEVENT
BEGIN:VEVENT
DTSTART;VALUE=DATE:20201215
DTEND;VALUE=DATE:20201216
DTSTAMP:20260421T145814
CREATED:20200314T073407Z
LAST-MODIFIED:20200314T073407Z
UID:4729-1607990400-1608076799@shriomdarbarnandachaur.com
SUMMARY:Sankrant at Darbar Nandachaur Dham (15 December 2020)
DESCRIPTION:Sankrant at Darbar Nandachaur Dham\n(15 December 2020)
URL:https://shriomdarbarnandachaur.com/event/sankrant-at-darbar-nandachaur-dham-15-december-2020/
LOCATION:Nandachaur Dham\, Hoshiyarpur Punjab\, Nandachaur Dham\, Hoshiyarpur\, jilla Hoshiyarpur\, India
CATEGORIES:Darbar Nandachaur Dham,Programs,Upcoming Events
ATTACH;FMTTYPE=image/jpeg:https://shriomdarbarnandachaur.com/wp-content/uploads/2020/03/Sankrant-at-Darbar-Nandachaur-Dham-15-December-2020.jpg
END:VEVENT
END:VCALENDAR